BEGIN:VCALENDAR
PRODID:brasil.gov.agenda
VERSION:1.0
BEGIN:VEVENT
DTSTART:20220630T140000Z
DTEND:20220630T180000Z
DCREATED:20220705T174250Z
UID:Compromisso-1cafb2942ab64192913ba917e647f433
SEQUENCE:0
LAST-MODIFIED:20220705T175007Z
SUMMARY:283.ª reunião\, sendo a 154ª sessão  em caráter extraordinário do CONSU
LOCATION:Reitoria
PRIORITY:3
TRANSP:0
END:VEVENT
END:VCALENDAR
