BEGIN:VCALENDAR
PRODID:brasil.gov.agenda
VERSION:1.0
BEGIN:VEVENT
DTSTART:20220629T100000Z
DTEND:20220629T120000Z
DCREATED:20220705T173944Z
UID:Compromisso-dd72b2999f1c4729a5b89c9f1be7b11e
SEQUENCE:0
LAST-MODIFIED:20220705T174910Z
SUMMARY:Reunião Reitor\, Prefeitura de Espinosa e Monte Azul
DESCRIPTION:Programa Brasil Profissionalizado
LOCATION:Reitoria
PRIORITY:3
TRANSP:0
END:VEVENT
END:VCALENDAR
