BEGIN:VCALENDAR
PRODID:brasil.gov.agenda
VERSION:1.0
BEGIN:VEVENT
DTSTART:20220629T150000Z
DTEND:20220629T160000Z
DCREATED:20220705T174016Z
UID:Compromisso-3302667989c448c2832e49a19ba9347e
SEQUENCE:0
LAST-MODIFIED:20220705T174921Z
SUMMARY:ReuniÃ£o Reitor e Diretoria de ConvÃªnios e Projeots
DESCRIPTION:OfÃ­cio FUCAM/GLA/LOG nÂº. 13/2022 - Solicita cessÃ£o de s
 alas para instalaÃ§Ã£o do Centro Educacional de Diamantina da FundaÃ§Ã
 £o Educacional Caio Martins (Fucam).
LOCATION:Reitoria
PRIORITY:3
TRANSP:0
END:VEVENT
END:VCALENDAR
