BEGIN:VCALENDAR
PRODID:brasil.gov.agenda
VERSION:1.0
BEGIN:VEVENT
DTSTART:20220628T100000Z
DTEND:20220628T120000Z
DCREATED:20220705T173607Z
UID:Compromisso-14a9b702733e4dc5b887cdfae50f9f29
SEQUENCE:0
LAST-MODIFIED:20220705T174809Z
SUMMARY:Reunião Reitor\, PROGRAD\, DTI e Arquivista
DESCRIPTION:Comissão de Acervo Institucional
LOCATION:Reitoria
PRIORITY:3
TRANSP:0
END:VEVENT
END:VCALENDAR
