BEGIN:VCALENDAR
PRODID:brasil.gov.agenda
VERSION:1.0
BEGIN:VEVENT
DTSTART:20220628T090000Z
DTEND:20220728T100000Z
DCREATED:20220705T173537Z
UID:Compromisso-eac960439591434b8052032e2e9e8b13
SEQUENCE:0
LAST-MODIFIED:20220705T174758Z
SUMMARY:Reunião Reitor e DTI
DESCRIPTION:Projeto de Desenvolvimento Institucional - Contratação d
 e Serviços de Tecnologia da Informação
LOCATION:Reitoria
PRIORITY:3
TRANSP:0
END:VEVENT
END:VCALENDAR
