BEGIN:VCALENDAR
PRODID:brasil.gov.agenda
VERSION:1.0
BEGIN:VEVENT
DTSTART:20220628T160000Z
DTEND:20220628T180000Z
DCREATED:20220705T173658Z
UID:Compromisso-8ab2cb10417d4972b9c740ca03ca7d8b
SEQUENCE:0
LAST-MODIFIED:20220705T174832Z
SUMMARY:Despachos Internos
LOCATION:Reitoria
PRIORITY:3
TRANSP:0
END:VEVENT
END:VCALENDAR
