BEGIN:VCALENDAR
PRODID:brasil.gov.agenda
VERSION:1.0
BEGIN:VEVENT
DTSTART:20220628T080000Z
DTEND:20220628T090000Z
DCREATED:20220705T173508Z
UID:Compromisso-03a2e4f90aa546cf88e2efeee5f1abb6
SEQUENCE:0
LAST-MODIFIED:20220705T174747Z
SUMMARY:36ª Reunião do CGIRC
DESCRIPTION:Monitoramento das Metas  dos Indicadores da PRPPG e PROGRA
 D\;
LOCATION:Reitoria
PRIORITY:3
TRANSP:0
END:VEVENT
END:VCALENDAR
