BEGIN:VCALENDAR
PRODID:brasil.gov.agenda
VERSION:1.0
BEGIN:VEVENT
DTSTART:20220627T080000Z
DTEND:20220627T120000Z
DCREATED:20220705T173215Z
UID:Compromisso-525118543a1f4a41a8910d1e3f6b27a3
SEQUENCE:0
LAST-MODIFIED:20220719T140855Z
SUMMARY:Despachos Internos
LOCATION:Reitoria
PRIORITY:3
TRANSP:0
END:VEVENT
END:VCALENDAR
