BEGIN:VCALENDAR
PRODID:brasil.gov.agenda
VERSION:1.0
BEGIN:VEVENT
DTSTART:20220624T000000Z
DTEND:20220624T000000Z
DCREATED:20220705T172922Z
UID:Compromisso-08a082a605754fb0900d1198da6b7d02
SEQUENCE:0
LAST-MODIFIED:20220705T174638Z
SUMMARY:Retorno de Belo Horizonte para Diamantina
LOCATION:Reitoria
PRIORITY:3
TRANSP:0
END:VEVENT
END:VCALENDAR
