BEGIN:VCALENDAR
PRODID:brasil.gov.agenda
VERSION:1.0
BEGIN:VEVENT
DTSTART:20220623T000000Z
DTEND:20220623T000000Z
DCREATED:20220705T172728Z
UID:Compromisso-8ba4f84611d3465e9b5c2f24b5dbe773
SEQUENCE:0
LAST-MODIFIED:20220705T174616Z
SUMMARY:Consulta Médica
LOCATION:Reitoria
PRIORITY:3
TRANSP:0
END:VEVENT
END:VCALENDAR
