BEGIN:VCALENDAR
PRODID:brasil.gov.agenda
VERSION:1.0
BEGIN:VEVENT
DTSTART:20220622T000000Z
DTEND:20220622T000000Z
DCREATED:20220705T172551Z
UID:Compromisso-91256476365f4c79887645e35e30e194
SEQUENCE:0
LAST-MODIFIED:20220705T174548Z
SUMMARY:Reunião Reitor e Deputada Laura Serrano
DESCRIPTION:Recursos Financeiros SEGOV
LOCATION:Reitoria
PRIORITY:3
TRANSP:0
END:VEVENT
END:VCALENDAR
