BEGIN:VCALENDAR
PRODID:brasil.gov.agenda
VERSION:1.0
BEGIN:VEVENT
DTSTART:20220621T090000Z
DTEND:20220621T120000Z
DCREATED:20220622T141759Z
UID:Compromisso-4e0e461e369e42c2a8c863cadd0219a0
SEQUENCE:0
LAST-MODIFIED:20220622T141759Z
SUMMARY:Evento Minas Avança Cidades
LOCATION:Reitoria
PRIORITY:3
TRANSP:0
END:VEVENT
END:VCALENDAR
