BEGIN:VCALENDAR
PRODID:brasil.gov.agenda
VERSION:1.0
BEGIN:VEVENT
DTSTART:20220620T080000Z
DTEND:20220620T120000Z
DCREATED:20220622T141610Z
UID:Compromisso-e314d694914e4817b1b9d735a086c0c1
SEQUENCE:0
LAST-MODIFIED:20220622T141610Z
SUMMARY:Despachos Internos
LOCATION:Reitoria
PRIORITY:3
TRANSP:0
END:VEVENT
END:VCALENDAR
