BEGIN:VCALENDAR
PRODID:brasil.gov.agenda
VERSION:1.0
BEGIN:VEVENT
DTSTART:20220620T140000Z
DTEND:20220620T190000Z
DCREATED:20220622T141639Z
UID:Compromisso-d787648955f24774b34bfaefa82943f9
SEQUENCE:0
LAST-MODIFIED:20220622T141639Z
SUMMARY:Deslocamento - Diamantina à Belo Horizonte
LOCATION:Reitoria
PRIORITY:3
TRANSP:0
END:VEVENT
END:VCALENDAR
