BEGIN:VCALENDAR
PRODID:brasil.gov.agenda
VERSION:1.0
BEGIN:VEVENT
DTSTART:20220617T000000Z
DTEND:20220617T000000Z
DCREATED:20220622T141500Z
UID:Compromisso-04141cb412244e0989f8b856712f9c03
SEQUENCE:0
LAST-MODIFIED:20220622T141500Z
SUMMARY:Ponto Facultativo
LOCATION:Reitoria
PRIORITY:3
TRANSP:0
END:VEVENT
END:VCALENDAR
