BEGIN:VCALENDAR
PRODID:brasil.gov.agenda
VERSION:1.0
BEGIN:VEVENT
DTSTART:20220616T000000Z
DTEND:20220616T000000Z
DCREATED:20220622T141421Z
UID:Compromisso-9364db2725cb45d0b653873ece4b77e0
SEQUENCE:0
LAST-MODIFIED:20220622T141421Z
SUMMARY:Ponto Facultativo - Corpus Christi
LOCATION:Reitoria
PRIORITY:3
TRANSP:0
END:VEVENT
END:VCALENDAR
