BEGIN:VCALENDAR
PRODID:brasil.gov.agenda
VERSION:1.0
BEGIN:VEVENT
DTSTART:20220615T140000Z
DTEND:20220615T180000Z
DCREATED:20220705T190456Z
UID:Compromisso-8d355007a71f46b182d3344534d78544
SEQUENCE:0
LAST-MODIFIED:20220705T190456Z
SUMMARY:Despachos Internos
LOCATION:Reitoria
PRIORITY:3
TRANSP:0
END:VEVENT
END:VCALENDAR
