BEGIN:VCALENDAR
PRODID:brasil.gov.agenda
VERSION:1.0
BEGIN:VEVENT
DTSTART:20220615T080000Z
DTEND:20220615T120000Z
DCREATED:20220705T190435Z
UID:Compromisso-98689158ff5a436784b216a4f3e99393
SEQUENCE:0
LAST-MODIFIED:20220705T190435Z
SUMMARY:183º reunião sendo a 50ª sessão em caráter extraordinário do CONSEPE
LOCATION:Reitoria
PRIORITY:3
TRANSP:0
END:VEVENT
END:VCALENDAR
