BEGIN:VCALENDAR
PRODID:brasil.gov.agenda
VERSION:1.0
BEGIN:VEVENT
DTSTART:20220614T080000Z
DTEND:20220614T120000Z
DCREATED:20220622T141236Z
UID:Compromisso-f72450ba3c7943088d64278ed2a151a9
SEQUENCE:0
LAST-MODIFIED:20220622T141236Z
SUMMARY:Despachos Internos
LOCATION:Reitoria
PRIORITY:3
TRANSP:0
END:VEVENT
END:VCALENDAR
