BEGIN:VCALENDAR
PRODID:brasil.gov.agenda
VERSION:1.0
BEGIN:VEVENT
DTSTART:20220610T080000Z
DTEND:20220610T090000Z
DCREATED:20220622T140818Z
UID:Compromisso-39ad5691a3714672aa9857d573f68aec
SEQUENCE:0
LAST-MODIFIED:20220622T140818Z
SUMMARY:Reunião Reitor e Equipe de Trabalho
DESCRIPTION:Projeto Divulgação dos Cursos da UFVJM
LOCATION:Reitoria
PRIORITY:3
TRANSP:0
END:VEVENT
END:VCALENDAR
