BEGIN:VCALENDAR
PRODID:brasil.gov.agenda
VERSION:1.0
BEGIN:VEVENT
DTSTART:20220610T090000Z
DTEND:20220610T100000Z
DCREATED:20220622T140849Z
UID:Compromisso-4dcbd11d10e64bc88890000de6bcc31a
SEQUENCE:0
LAST-MODIFIED:20220622T140849Z
SUMMARY:Reunião Reitor e Direção da FCBS
DESCRIPTION:Organização das Atividades das Clínicas e Laboratoriais
  do Curso de Odontologia
LOCATION:Reitoria
PRIORITY:3
TRANSP:0
END:VEVENT
END:VCALENDAR
