BEGIN:VCALENDAR
PRODID:brasil.gov.agenda
VERSION:1.0
BEGIN:VEVENT
DTSTART:20220610T100000Z
DTEND:20220610T110000Z
DCREATED:20220622T140926Z
UID:Compromisso-8e4156bfbc6945dcbcb2a44f1cfea7c0
SEQUENCE:0
LAST-MODIFIED:20220622T140926Z
SUMMARY:Reunião Reitor e Direção da FAMED
DESCRIPTION:Reforma do Prédio de Centro Avançado de Diagnóstico.
LOCATION:Reitoria
PRIORITY:3
TRANSP:0
END:VEVENT
END:VCALENDAR
