BEGIN:VCALENDAR
PRODID:brasil.gov.agenda
VERSION:1.0
BEGIN:VEVENT
DTSTART:20220610T140000Z
DTEND:20220610T180000Z
DCREATED:20220622T140948Z
UID:Compromisso-f8a5a2e652cd41c4ad2503cfeddb68af
SEQUENCE:0
LAST-MODIFIED:20220622T140948Z
SUMMARY:281.ª reunião\, sendo a 126ª sessão  em caráter extraordinário do CONSU
LOCATION:Reitoria
PRIORITY:3
TRANSP:0
END:VEVENT
END:VCALENDAR
