BEGIN:VCALENDAR
PRODID:brasil.gov.agenda
VERSION:1.0
BEGIN:VEVENT
DTSTART:20220609T140000Z
DTEND:20220609T160000Z
DCREATED:20220609T184547Z
UID:Compromisso-c99f9b6e1c3f405cb9ce13e7c66acd50
SEQUENCE:0
LAST-MODIFIED:20220609T184547Z
SUMMARY:Reunião Reitor\, PROAD e PROACE
DESCRIPTION:Transporte Coletivo
LOCATION:Reitoria
PRIORITY:3
TRANSP:0
END:VEVENT
END:VCALENDAR
