BEGIN:VCALENDAR
PRODID:brasil.gov.agenda
VERSION:1.0
BEGIN:VEVENT
DTSTART:20220609T160000Z
DTEND:20220609T180000Z
DCREATED:20220609T184623Z
UID:Compromisso-2dd0699ee381434cad07dd9adf84fc99
SEQUENCE:0
LAST-MODIFIED:20220609T184623Z
SUMMARY:Reunião Reitor\, DASA\, PROEXC e Coordenação do Curso de Medicina de Diamantina
DESCRIPTION:Saúde no Campus no JK
LOCATION:Reitoria
PRIORITY:3
TRANSP:0
END:VEVENT
END:VCALENDAR
