BEGIN:VCALENDAR
PRODID:brasil.gov.agenda
VERSION:1.0
BEGIN:VEVENT
DTSTART:20220609T103000Z
DTEND:20220609T120000Z
DCREATED:20220609T184518Z
UID:Compromisso-d7bbaccf8ae443cb9847db790d7c6380
SEQUENCE:0
LAST-MODIFIED:20220609T184518Z
SUMMARY:Despachos Internos
LOCATION:Reitoria
PRIORITY:3
TRANSP:0
END:VEVENT
END:VCALENDAR
