BEGIN:VCALENDAR
PRODID:brasil.gov.agenda
VERSION:1.0
BEGIN:VEVENT
DTSTART:20220608T080000Z
DTEND:20220608T120000Z
DCREATED:20220609T184114Z
UID:Compromisso-cc3a8f0cdadf458e813595544c87c3da
SEQUENCE:0
LAST-MODIFIED:20220609T184114Z
SUMMARY:Despachos Internos
LOCATION:Reitoria
PRIORITY:3
TRANSP:0
END:VEVENT
END:VCALENDAR
