BEGIN:VCALENDAR
PRODID:brasil.gov.agenda
VERSION:1.0
BEGIN:VEVENT
DTSTART:20220607T120000Z
DTEND:20220607T180000Z
DCREATED:20220607T125246Z
UID:Compromisso-bca0858372c744118d30f6d120231287
SEQUENCE:0
LAST-MODIFIED:20220607T125246Z
SUMMARY:Retorno – Unaí x Diamantina
LOCATION:Reitoria
PRIORITY:3
TRANSP:0
END:VEVENT
END:VCALENDAR
