BEGIN:VCALENDAR
PRODID:brasil.gov.agenda
VERSION:1.0
BEGIN:VEVENT
DTSTART:20220606T140000Z
DTEND:20220606T150000Z
DCREATED:20220606T181615Z
UID:Compromisso-08e85be0e76b4a5dbbb1c6f38d2a5254
SEQUENCE:0
LAST-MODIFIED:20220606T181616Z
SUMMARY:Tribuna – Câmara Municipal de Unaí
LOCATION:Reitoria
PRIORITY:3
TRANSP:0
END:VEVENT
END:VCALENDAR
