BEGIN:VCALENDAR
PRODID:brasil.gov.agenda
VERSION:1.0
BEGIN:VEVENT
DTSTART:20220603T160000Z
DTEND:20220603T180000Z
DCREATED:20220606T111201Z
UID:Compromisso-23b47897786248a48aa80b759642e616
SEQUENCE:0
LAST-MODIFIED:20220606T111201Z
SUMMARY:Reunião Reitor e Congregação da FCBS e FAMED
DESCRIPTION:Construção de Projeto Centro Avançado de Diagnóstico e
  tratamento em Saúde. Local: Prédio no campus JK\, inicialmente proj
 etado para o curso de odontologia.
LOCATION:Reitoria
PRIORITY:3
TRANSP:0
END:VEVENT
END:VCALENDAR
