BEGIN:VCALENDAR
PRODID:brasil.gov.agenda
VERSION:1.0
BEGIN:VEVENT
DTSTART:20220603T140000Z
DTEND:20220603T160000Z
DCREATED:20220606T111129Z
UID:Compromisso-a6480cdf636f45e0b295e9133a7aca3d
SEQUENCE:0
LAST-MODIFIED:20220606T111129Z
SUMMARY:Reunião Reitor e Congregação da Faculdade de Medicina do Mucuri Pauta: Esclarecimentos acerca das Negociações da Reitoria com o Governo de Estado de Minas Gerais visando repasses de recursos financeiros para as unidades acadêmicas da UFVJM e em contrapartida à UFVJM apresentaria uma proposta de expansão com cursos de graduação utilizando as Escolas Técnicas do Programa Brasil Profissionalizado.
LOCATION:Reitoria
PRIORITY:3
TRANSP:0
END:VEVENT
END:VCALENDAR
