BEGIN:VCALENDAR
PRODID:brasil.gov.agenda
VERSION:1.0
BEGIN:VEVENT
DTSTART:20220603T080000Z
DTEND:20220603T120000Z
DCREATED:20220606T111102Z
UID:Compromisso-4e2fa97583c54fd5977ebdce6547f5de
SEQUENCE:0
LAST-MODIFIED:20220606T111102Z
SUMMARY:Retorno para Diamantina – Trajeto Três Maria à Diamantina
LOCATION:Reitoria
PRIORITY:3
TRANSP:0
END:VEVENT
END:VCALENDAR
