BEGIN:VCALENDAR
PRODID:brasil.gov.agenda
VERSION:1.0
BEGIN:VEVENT
DTSTART:20220602T093000Z
DTEND:20220602T120000Z
DCREATED:20220606T110725Z
UID:Compromisso-a8f46b5af131474986b3404255611ca9
SEQUENCE:0
LAST-MODIFIED:20220606T110725Z
SUMMARY:Cerimônia de Lançamento do "Telesaúde Brasil\, nova estratégia de tecnologias de comunicações na saúde"
LOCATION:Reitoria
PRIORITY:3
TRANSP:0
END:VEVENT
END:VCALENDAR
