BEGIN:VCALENDAR
PRODID:brasil.gov.agenda
VERSION:1.0
BEGIN:VEVENT
DTSTART:20220530T153000Z
DTEND:20220530T203000Z
DCREATED:20220603T184603Z
UID:Compromisso-618a7915480c4a5bbc3e1379814e9b73
SEQUENCE:0
LAST-MODIFIED:20220603T184603Z
SUMMARY:Viagem para Belo Horizonte – Deslocamento
LOCATION:Reitoria
PRIORITY:3
TRANSP:0
END:VEVENT
END:VCALENDAR
