BEGIN:VCALENDAR
PRODID:brasil.gov.agenda
VERSION:1.0
BEGIN:VEVENT
DTSTART:20220530T080000Z
DTEND:20220530T120000Z
DCREATED:20220603T184536Z
UID:Compromisso-9b80a38138384bb887cf75a426bfae61
SEQUENCE:0
LAST-MODIFIED:20220603T184536Z
SUMMARY:278.ª reunião\, sendo a 123ª sessão  em caráter extraordinário do CONSU
LOCATION:Reitoria
PRIORITY:3
TRANSP:0
END:VEVENT
END:VCALENDAR
