BEGIN:VCALENDAR
PRODID:brasil.gov.agenda
VERSION:1.0
BEGIN:VEVENT
DTSTART:20220527T140000Z
DTEND:20220527T150000Z
DCREATED:20220603T182335Z
UID:Compromisso-f64532f65aab47698dd0646f30714a4d
SEQUENCE:0
LAST-MODIFIED:20220603T182335Z
SUMMARY:Reunião Reitor\, Serviroes: A.K.D.\, E.D.M.A. e Gabinete da Reitoria
DESCRIPTION:Equipe de Trabalho
LOCATION:Reitoria
PRIORITY:3
TRANSP:0
END:VEVENT
END:VCALENDAR
