BEGIN:VCALENDAR
PRODID:brasil.gov.agenda
VERSION:1.0
BEGIN:VEVENT
DTSTART:20220527T160000Z
DTEND:20220527T180000Z
DCREATED:20220603T182707Z
UID:Compromisso-9f913e21418c48bf88dbe54fc6adc153
SEQUENCE:0
LAST-MODIFIED:20220603T182707Z
SUMMARY:Reunião Reitor  e Secretaria  Municipal de Meio Ambiente de Diamantina
DESCRIPTION:Parcerias referente a agropecuária no Município de Diama
 ntina-MG\;
LOCATION:Reitoria
PRIORITY:3
TRANSP:0
END:VEVENT
END:VCALENDAR
