BEGIN:VCALENDAR
PRODID:brasil.gov.agenda
VERSION:1.0
BEGIN:VEVENT
DTSTART:20220527T080000Z
DTEND:20220527T120000Z
DCREATED:20220603T182303Z
UID:Compromisso-9fe00bc2d81e4c6bbe07cdab6b3ba54f
SEQUENCE:0
LAST-MODIFIED:20220603T182303Z
SUMMARY:277.ª reunião\, sendo a 122ª sessão  em caráter extraordinário do CONSU
LOCATION:Reitoria
PRIORITY:3
TRANSP:0
END:VEVENT
END:VCALENDAR
