BEGIN:VCALENDAR
PRODID:brasil.gov.agenda
VERSION:1.0
BEGIN:VEVENT
DTSTART:20220526T080000Z
DTEND:20220526T100000Z
DCREATED:20220603T182102Z
UID:Compromisso-01e58c349dce46f1b13ec36579d6abf5
SEQUENCE:0
LAST-MODIFIED:20220603T182102Z
SUMMARY:Reunião Reitor\, PROPLAN\, DORC e LEC
DESCRIPTION:Pagamento de despesas de custeio para hospedagem de estuda
 ntes não classificados no PAE na Moradia Estudantil\, bem como suplem
 entação orçamentária para custeio de alimentação dos estudantes 
 não beneficiários da bolsa permanência\, no Tempo Universidade 2022
 /1 (27/06/2022 a 06/08/2022). Referência das demandas - processo SEI 
 nº 23086.004246/2020-13.
LOCATION:Reitoria
PRIORITY:3
TRANSP:0
END:VEVENT
END:VCALENDAR
