BEGIN:VCALENDAR
PRODID:brasil.gov.agenda
VERSION:1.0
BEGIN:VEVENT
DTSTART:20220526T100000Z
DTEND:20220526T120000Z
DCREATED:20220603T182134Z
UID:Compromisso-15bb098095d74f2a90c83aa513cb6e12
SEQUENCE:0
LAST-MODIFIED:20220603T182134Z
SUMMARY:Reunião Direção FACET
DESCRIPTION:Permuta de Servidroes
LOCATION:Reitoria
PRIORITY:3
TRANSP:0
END:VEVENT
END:VCALENDAR
