BEGIN:VCALENDAR
PRODID:brasil.gov.agenda
VERSION:1.0
BEGIN:VEVENT
DTSTART:20220525T140000Z
DTEND:20220525T180000Z
DCREATED:20220526T143443Z
UID:Compromisso-13a268e22f4d4456a7e8a5a43e4b502f
SEQUENCE:0
LAST-MODIFIED:20220526T143443Z
SUMMARY:Despachos Internos
LOCATION:Reitoria
PRIORITY:3
TRANSP:0
END:VEVENT
END:VCALENDAR
