BEGIN:VCALENDAR
PRODID:brasil.gov.agenda
VERSION:1.0
BEGIN:VEVENT
DTSTART:20220525T080000Z
DTEND:20220525T120000Z
DCREATED:20220526T143427Z
UID:Compromisso-c65615e0bf2345f3b27db47a34f7f322
SEQUENCE:0
LAST-MODIFIED:20220526T143427Z
SUMMARY:276.ª reunião\, sendo a 153ª sessão  em caráter extraordinário do CONSU
LOCATION:Reitoria
PRIORITY:3
TRANSP:0
END:VEVENT
END:VCALENDAR
