BEGIN:VCALENDAR
PRODID:brasil.gov.agenda
VERSION:1.0
BEGIN:VEVENT
DTSTART:20220524T140000Z
DTEND:20220524T163000Z
DCREATED:20220526T143251Z
UID:Compromisso-7626fd44ab714c70bc54ee30f9dd7847
SEQUENCE:0
LAST-MODIFIED:20220526T143251Z
SUMMARY:Reunião Reitor\, Pró-Reitores e Diretores
DESCRIPTION:Alinhar visão de futuro para 2030\; e \n2) Levantar desaf
 ios para a UFVJM para materializar essa visão\;
LOCATION:Reitoria
PRIORITY:3
TRANSP:0
END:VEVENT
END:VCALENDAR
