BEGIN:VCALENDAR
PRODID:brasil.gov.agenda
VERSION:1.0
BEGIN:VEVENT
DTSTART:20220524T080000Z
DTEND:20220524T100000Z
DCREATED:20220526T143135Z
UID:Compromisso-365304f9794a425d9df719cb4351e720
SEQUENCE:0
LAST-MODIFIED:20220526T143135Z
SUMMARY:Reunião Reitor e Secretária de Processos Administrativos
DESCRIPTION:Processos Administrativos
LOCATION:Reitoria
PRIORITY:3
TRANSP:0
END:VEVENT
END:VCALENDAR
