BEGIN:VCALENDAR
PRODID:brasil.gov.agenda
VERSION:1.0
BEGIN:VEVENT
DTSTART:20220524T170000Z
DTEND:20220524T180000Z
DCREATED:20220526T143324Z
UID:Compromisso-a57d03763acf4a3b985e02f6305156b6
SEQUENCE:0
LAST-MODIFIED:20220526T143324Z
SUMMARY:Reunião Reitor e Direção ICET
DESCRIPTION:Fechamento das ações da comissão de viabilidade do curs
 o de gemologia - Apresentação ao Reitor.
LOCATION:Reitoria
PRIORITY:3
TRANSP:0
END:VEVENT
END:VCALENDAR
