BEGIN:VCALENDAR
PRODID:brasil.gov.agenda
VERSION:1.0
BEGIN:VEVENT
DTSTART:20220524T100000Z
DTEND:20220524T120000Z
DCREATED:20220526T143207Z
UID:Compromisso-de5b9391b38440b295081f25394bbfee
SEQUENCE:0
LAST-MODIFIED:20220526T143207Z
SUMMARY:Despachos Internos
LOCATION:Reitoria
PRIORITY:3
TRANSP:0
END:VEVENT
END:VCALENDAR
