BEGIN:VCALENDAR
PRODID:brasil.gov.agenda
VERSION:1.0
BEGIN:VEVENT
DTSTART:20220523T110000Z
DTEND:20220523T120000Z
DCREATED:20220526T142932Z
UID:Compromisso-ab20d4c672764c8190411ad70e214a66
SEQUENCE:0
LAST-MODIFIED:20220526T142932Z
SUMMARY:Reunião Reitor\, DGI e PROGEP
DESCRIPTION:Reestruturação Operacional\; e 2 - Aproveitamento de Vag
 as\;
LOCATION:Reitoria
PRIORITY:3
TRANSP:0
END:VEVENT
END:VCALENDAR
