BEGIN:VCALENDAR
PRODID:brasil.gov.agenda
VERSION:1.0
BEGIN:VEVENT
DTSTART:20220520T080000Z
DTEND:20220520T100000Z
DCREATED:20220526T140938Z
UID:Compromisso-448de7bd20e244fc9edbf3edfb5af0e6
SEQUENCE:0
LAST-MODIFIED:20220526T140938Z
SUMMARY:Reunião Reitor e Secretária de Processos Administrativos
DESCRIPTION:Processos Administrativos
LOCATION:Reitoria
PRIORITY:3
TRANSP:0
END:VEVENT
END:VCALENDAR
