BEGIN:VCALENDAR
PRODID:brasil.gov.agenda
VERSION:1.0
BEGIN:VEVENT
DTSTART:20220520T100000Z
DTEND:20220520T120000Z
DCREATED:20220526T141034Z
UID:Compromisso-116925b289554761b1db36b884df34c3
SEQUENCE:0
LAST-MODIFIED:20220526T141034Z
SUMMARY:Reunião Reitor\, DICOM e Secretário dos Conselhos Superiores
DESCRIPTION:Colação de Grau
LOCATION:Reitoria
PRIORITY:3
TRANSP:0
END:VEVENT
END:VCALENDAR
