BEGIN:VCALENDAR
PRODID:brasil.gov.agenda
VERSION:1.0
BEGIN:VEVENT
DTSTART:20220520T140000Z
DTEND:20220520T180000Z
DCREATED:20220526T141127Z
UID:Compromisso-ffcfa6378b8d43a68c8ec3d61f320888
SEQUENCE:0
LAST-MODIFIED:20220526T141127Z
SUMMARY:Deslocamento para Belo Horizonte
DESCRIPTION:Recebimento da Comenda Educador de Minas
LOCATION:Reitoria
PRIORITY:3
TRANSP:0
END:VEVENT
END:VCALENDAR
